Workbook

Sheet 1 - Atribua pesos relac. perfil
A1: Palestra: Como escolher o software de modelagem BIM?
A3: Este sistema acompanha a apresentação do arquiteto João Gaspar, diretor do TI Lab e coordenador do desenvolvimento de cursos para a Rede AEC Pro.
A6: Dicas para a atribuição de pesos de acordo com seu perfil profissional | G6: Leia o questionário ao lado para lhe ajudar a atribuir pesos aos critérios expostos abaixo:
G7: Esses pesos estão relacionados com a tabela 2, onde a análise é feita.
A8: Observe as perguntas abaixo: | G8: Criação | H8: 3
A9: De acordo com a sua resposta, veja a nossa sugestão de quais itens da tabela ao lado você deveria dar | G9: Apresentaçâo | H9: 3
A10: mais peso para as suas decisões. Depois use a planilha Análise para dar notas aos softwares e chegar | G10: Documentação | H10: 3
A11: às suas conclusões! | G11: Comunicação Interna | H11: 3
G12: Intercambialidade | H12: 3
G13: Base de usuários | H13: 3
A14: Autônomo, escritório próprio ou equipe em escritório? | G14: Valores | H14: 3
A15: para autônomos: mais peso em Valores; menos peso em Comunicação Interna | B15: escritório próprio: mais peso em Intercambialidade; menos peso em Comunicação Interna | C15: equipe em escritório grande: mais peso em Comunicação Interna e Intercambialidade; menos peso em Valores
A17: Natureza e escala dos projetos
A18: construções convencionais, pequeno e médio porte: mais peso em Criação, Apresentação e Documentação | B18: construções inovadoras, pequeno e médio porte: mais peso em Criação e Intercambialidade | C18: construções convencionais de grande porte: mais peso em em Comunicação Interna e Intercambialidade | D18: construções inovadoras de grande porte: mais peso em em criação, Comunicação Interna e Intercambialidade
A20: Métodos e sistemas construtivos
A21: métodos construtivos tradicionais, equipes pequenas, montagem pouco industrializada: mais peso em Documentação | C21: métodos construtivos industrializados, grandes equipes, canteiro recionalizado: mais peso em Comunicação Interna
A23: Relacionamento com outras disciplinas
A24: quanto mais relacionamento com outras disciplinas, mais peso em Intercambialidade
A26: João Gaspar
A27: =HYPERLINK("mailto:joaogaspar@tilab.com.br","joaogaspar@tilab.com.br") -> joaogaspar@tilab.com.br | C27: =HYPERLINK("http://www.tilab.com.br/bim","http://www.tilab.com.br/bim") -> http://www.tilab.com.br/bim

Sheet 2 - Dê notas e faça a Análise
A1: Palestra: Como escolher o software de modelagem BIM?
A2: Este tabela acompanha a apresentação do arquiteto João Gaspar, diretor da TI Lab e coordenador do desenvolvimento de cursos para a Rede AEC Pro.
A5: CRIAÇÃO
A6: Item | B6: Peso
C7: AECOsim | D7: ArchiCAD | E7: Revit | F7: SketchUp | G7: Vectorworks | H7: Máximo
A8: Modelagem Básica 3D | B8: 2 | C8: 3 | D8: 3 | E8: 3 | F8: 3 | G8: 3 | H8: 5
A9: Edição 3D | B9: 2 | C9: 3 | D9: 3 | E9: 3 | F9: 3 | G9: 3 | H9: 5
A10: Objetos Paramétricos | B10: 2 | C10: 3 | D10: 3 | E10: 3 | F10: 3 | G10: 3 | H10: 5
A11: Modelagem em NURBS | B11: 2 | C11: 3 | D11: 3 | E11: 3 | F11: 3 | G11: 3 | H11: 5
A12: Total | C12: =SUMPRODUCT($B8:$B11,C8:C11) -> 24 | D12: =SUMPRODUCT($B8:$B11,D8:D11) -> 24 | E12: =SUMPRODUCT($B8:$B11,E8:E11) -> 24 | F12: =SUMPRODUCT($B8:$B11,F8:F11) -> 24 | G12: =SUMPRODUCT($B8:$B11,G8:G11) -> 24 | H12: =SUMPRODUCT($B8:$B11,H8:H11) -> 40
A14: APRESENTAÇÂO
A15: Item | B15: Peso
C16: AECOsim | D16: ArchiCAD | E16: Revit | F16: SketchUp | G16: Vectorworks | H16: Máximo
A17: Estilos de representação do modelo | B17: 2 | C17: 3 | D17: 3 | E17: 3 | F17: 3 | G17: 3 | H17: 5
A18: Aplicação e edição de luzes e texturas | B18: 2 | C18: 3 | D18: 3 | E18: 3 | F18: 3 | G18: 3 | H18: 5
A19: Relacionamento com programas de renderização | B19: 2 | C19: 3 | D19: 3 | E19: 3 | F19: 3 | G19: 3 | H19: 5
A20: Capacidade de uso da nuvem | B20: 2 | C20: 3 | D20: 3 | E20: 3 | F20: 3 | G20: 3 | H20: 5
A21: Uso de animações, visitas virtuais | B21: 2 | C21: 3 | D21: 3 | E21: 3 | F21: 3 | G21: 3 | H21: 5
A22: Total | C22: =SUMPRODUCT($B17:$B21,C17:C21) -> 30 | D22: =SUMPRODUCT($B17:$B21,D17:D21) -> 30 | E22: =SUMPRODUCT($B17:$B21,E17:E21) -> 30 | F22: =SUMPRODUCT($B17:$B21,F17:F21) -> 30 | G22: =SUMPRODUCT($B17:$B21,G17:G21) -> 30 | H22: =SUMPRODUCT($B17:$B21,H17:H21) -> 50
A24: DOCUMENTAÇÃO
A25: Item | B25: Peso
C26: AECOsim | D26: ArchiCAD | E26: Revit | F26: SketchUp | G26: Vectorworks | H26: Máximo
A27: Automatização modelo e pranchas | B27: 2 | C27: 3 | D27: 3 | E27: 3 | F27: 3 | G27: 3 | H27: 5
A28: Anotações | B28: 2 | C28: 3 | D28: 3 | E28: 3 | F28: 3 | G28: 3 | H28: 5
A29: Fidelidade tela/impressão | B29: 2 | C29: 3 | D29: 3 | E29: 3 | F29: 3 | G29: 3 | H29: 5
A30: Total | C30: =SUMPRODUCT($B27:$B29,C27:C29) -> 18 | D30: =SUMPRODUCT($B27:$B29,D27:D29) -> 18 | E30: =SUMPRODUCT($B27:$B29,E27:E29) -> 18 | F30: =SUMPRODUCT($B27:$B29,F27:F29) -> 18 | G30: =SUMPRODUCT($B27:$B29,G27:G29) -> 18 | H30: =SUMPRODUCT($B27:$B29,H27:H29) -> 30
A32: COMUNICAÇÃO INTERNA
A33: Item | B33: Peso
C34: AECOsim | D34: ArchiCAD | E34: Revit | F34: SketchUp | G34: Vectorworks | H34: Máximo
A35: Por Referência | B35: 2 | C35: 3 | D35: 3 | E35: 3 | F35: 3 | G35: 3 | H35: 5
A36: Servidor BIM | B36: 2 | C36: 3 | D36: 3 | E36: 3 | F36: 3 | G36: 3 | H36: 5
A37: Total | C37: =SUMPRODUCT($B35:$B36,C35:C36) -> 12 | D37: =SUMPRODUCT($B35:$B36,D35:D36) -> 12 | E37: =SUMPRODUCT($B35:$B36,E35:E36) -> 12 | F37: =SUMPRODUCT($B35:$B36,F35:F36) -> 12 | G37: =SUMPRODUCT($B35:$B36,G35:G36) -> 12 | H37: =SUMPRODUCT($B35:$B36,H35:H36) -> 20
A39: INTERCAMBIALIDADE
A40: Item | B40: Peso | C40: AECOsim | D40: ArchiCAD | E40: Revit | F40: SketchUp | G40: Vectorworks | H40: Máximo
A41: DWG | B41: 2 | C41: 3 | D41: 3 | E41: 3 | F41: 3 | G41: 3 | H41: 5
A42: IFC | B42: 2 | C42: 3 | D42: 3 | E42: 3 | F42: 3 | G42: 3 | H42: 5
A43: Outros Arquivos | B43: 2 | C43: 3 | D43: 3 | E43: 3 | F43: 3 | G43: 3 | H43: 5
A44: Total | C44: =SUMPRODUCT($B41:$B43,C41:C43) -> 18 | D44: =SUMPRODUCT($B41:$B43,D41:D43) -> 18 | E44: =SUMPRODUCT($B41:$B43,E41:E43) -> 18 | F44: =SUMPRODUCT($B41:$B43,F41:F43) -> 18 | G44: =SUMPRODUCT($B41:$B43,G41:G43) -> 18 | H44: =SUMPRODUCT($B41:$B43,H41:H43) -> 30
A46: BASE DE USUÁRIOS
A47: Item | B47: Peso
...
