Workbook

Sheet 1 - Atribua pesos relac. perfil
A1: Palestra: Como escolher o software de modelagem BIM?
A3: Este sistema acompanha a apresentação do arquiteto João Gaspar, diretor do TI Lab e coordenador do desenvolvimento de cursos para a Rede AEC Pro.
A6: Dicas para a atribuição de pesos de acordo com seu perfil profissional | G6: Leia o questionário ao lado para lhe ajudar a atribuir pesos aos critérios expostos abaixo:
G7: Esses pesos estão relacionados com a tabela 2, onde a análise é feita.
A8: Observe as perguntas abaixo: | G8: Criação | H8: 3
A9: De acordo com a sua resposta, veja a nossa sugestão de quais itens da tabela ao lado você deveria dar | G9: Apresentaçâo | H9: 3
A10: mais peso para as suas decisões. Depois use a planilha Análise para dar notas aos softwares e chegar | G10: Documentação | H10: 3
A11: às suas conclusões! | G11: Comunicação Interna | H11: 3
G12: Intercambialidade | H12: 3
G13: Base de usuários | H13: 3
A14: Autônomo, escritório próprio ou equipe em escritório? | G14: Valores | H14: 3
A15: para autônomos: mais peso em Valores; menos peso em Comunicação Interna | B15: escritório próprio: mais peso em Intercambialidade; menos peso em Comunicação Interna | C15: equipe em escritório grande: mais peso em Comunicação Interna e Intercambialidade; menos peso em Valores
A17: Natureza e escala dos projetos
A18: construções convencionais, pequeno e médio porte: mais peso em Criação, Apresentação e Documentação | B18: construções inovadoras, pequeno e médio porte: mais peso em Criação e Intercambialidade | C18: construções convencionais de grande porte: mais peso em em Comunicação Interna e Intercambialidade | D18: construções inovadoras de grande porte: mais peso em em criação, Comunicação Interna e Intercambialidade
A20: Métodos e sistemas construtivos
A21: métodos construtivos tradicionais, equipes pequenas, montagem pouco industrializada: mais peso em Documentação | C21: métodos construtivos industrializados, grandes equipes, canteiro recionalizado: mais peso em Comunicação Interna
A23: Relacionamento com outras disciplinas
A24: quanto mais relacionamento com outras disciplinas, mais peso em Intercambialidade
A26: João Gaspar
A27: =HYPERLINK("mailto:joaogaspar@tilab.com.br","joaogaspar@tilab.com.br") -> joaogaspar@tilab.com.br | C27: =HYPERLINK("http://www.tilab.com.br/bim","http://www.tilab.com.br/bim") -> http://www.tilab.com.br/bim

Sheet 2 - Dê notas e faça a Análise
A1: Palestra: Como escolher o software de modelagem BIM?
A2: Este tabela acompanha a apresentação do arquiteto João Gaspar, diretor da TI Lab e coordenador do desenvolvimento de cursos para a Rede AEC Pro.
A5: CRIAÇÃO
A6: Item | B6: Peso
C7: AECOsim | D7: ArchiCAD | E7: Revit | F7: SketchUp | G7: Vectorworks | H7: Máximo
A8: Modelagem Básica 3D | B8: 2 | C8: 3 | D8: 3 | E8: 3 | F8: 3 | G8: 3 | H8: 5
A9: Edição 3D | B9: 2 | C9: 3 | D9: 3 | E9: 3 | F9: 3 | G9: 3 | H9: 5
A10: Objetos Paramétricos | B10: 2 | C10: 3 | D10: 3 | E10: 3 | F10: 3 | G10: 3 | H10: 5
A11: Modelagem em NURBS | B11: 2 | C11: 3 | D11: 3 | E11: 3 | F11: 3 | G11: 3 | H11: 5
A12: Total | C12: =SUMPRODUCT($B8:$B11,C8:C11) -> 24 | D12: =SUMPRODUCT($B8:$B11,D8:D11) -> 24 | E12: =SUMPRODUCT($B8:$B11,E8:E11) -> 24 | F12: =SUMPRODUCT($B8:$B11,F8:F11) -> 24 | G12: =SUMPRODUCT($B8:$B11,G8:G11) -> 24 | H12: =SUMPRODUCT($B8:$B11,H8:H11) -> 40
A14: APRESENTAÇÂO
A15: Item | B15: Peso
C16: AECOsim | D16: ArchiCAD | E16: Revit | F16: SketchUp | G16: Vectorworks | H16: Máximo
A17: Estilos de representação do modelo | B17: 2 | C17: 3 | D17: 3 | E17: 3 | F17: 3 | G17: 3 | H17: 5
A18: Aplicação e edição de luzes e texturas | B18: 2 | C18: 3 | D18: 3 | E18: 3 | F18: 3 | G18: 3 | H18: 5
A19: Relacionamento com programas de renderização | B19: 2 | C19: 3 | D19: 3 | E19: 3 | F19: 3 | G19: 3 | H19: 5
A20: Capacidade de uso da nuvem | B20: 2 | C20: 3 | D20: 3 | E20: 3 | F20: 3 | G20: 3 | H20: 5
A21: Uso de animações, visitas virtuais | B21: 2 | C21: 3 | D21: 3 | E21: 3 | F21: 3 | G21: 3 | H21: 5
A22: Total | C22: =SUMPRODUCT($B17:$B21,C17:C21) -> 30 | D22: =SUMPRODUCT($B17:$B21,D17:D21) -> 30 | E22: =SUMPRODUCT($B17:$B21,E17:E21) -> 30 | F22: =SUMPRODUCT($B17:$B21,F17:F21) -> 30 | G22: =SUMPRODUCT($B17:$B21,G17:G21) -> 30 | H22: =SUMPRODUCT($B17:$B21,H17:H21) -> 50
A24: DOCUMENTAÇÃO
A25: Item | B25: Peso
C26: AECOsim | D26: ArchiCAD | E26: Revit | F26: SketchUp | G26: Vectorworks | H26: Máximo
A27: Automatização modelo e pranchas | B27: 2 | C27: 3 | D27: 3 | E27: 3 | F27: 3 | G27: 3 | H27: 5
A28: Anotações | B28: 2 | C28: 3 | D28: 3 | E28: 3 | F28: 3 | G28: 3 | H28: 5
A29: Fidelidade tela/impressão | B29: 2 | C29: 3 | D29: 3 | E29: 3 | F29: 3 | G29: 3 | H29: 5
A30: Total | C30: =SUMPRODUCT($B27:$B29,C27:C29) -> 18 | D30: =SUMPRODUCT($B27:$B29,D27:D29) -> 18 | E30: =SUMPRODUCT($B27:$B29,E27:E29) -> 18 | F30: =SUMPRODUCT($B27:$B29,F27:F29) -> 18 | G30: =SUMPRODUCT($B27:$B29,G27:G29) -> 18 | H30: =SUMPRODUCT($B27:$B29,H27:H29) -> 30
A32: COMUNICAÇÃO INTERNA
A33: Item | B33: Peso
C34: AECOsim | D34: ArchiCAD | E34: Revit | F34: SketchUp | G34: Vectorworks | H34: Máximo
A35: Por Referência | B35: 2 | C35: 3 | D35: 3 | E35: 3 | F35: 3 | G35: 3 | H35: 5
A36: Servidor BIM | B36: 2 | C36: 3 | D36: 3 | E36: 3 | F36: 3 | G36: 3 | H36: 5
A37: Total | C37: =SUMPRODUCT($B35:$B36,C35:C36) -> 12 | D37: =SUMPRODUCT($B35:$B36,D35:D36) -> 12 | E37: =SUMPRODUCT($B35:$B36,E35:E36) -> 12 | F37: =SUMPRODUCT($B35:$B36,F35:F36) -> 12 | G37: =SUMPRODUCT($B35:$B36,G35:G36) -> 12 | H37: =SUMPRODUCT($B35:$B36,H35:H36) -> 20
A39: INTERCAMBIALIDADE
A40: Item | B40: Peso | C40: AECOsim | D40: ArchiCAD | E40: Revit | F40: SketchUp | G40: Vectorworks | H40: Máximo
A41: DWG | B41: 2 | C41: 3 | D41: 3 | E41: 3 | F41: 3 | G41: 3 | H41: 5
A42: IFC | B42: 2 | C42: 3 | D42: 3 | E42: 3 | F42: 3 | G42: 3 | H42: 5
A43: Outros Arquivos | B43: 2 | C43: 3 | D43: 3 | E43: 3 | F43: 3 | G43: 3 | H43: 5
A44: Total | C44: =SUMPRODUCT($B41:$B43,C41:C43) -> 18 | D44: =SUMPRODUCT($B41:$B43,D41:D43) -> 18 | E44: =SUMPRODUCT($B41:$B43,E41:E43) -> 18 | F44: =SUMPRODUCT($B41:$B43,F41:F43) -> 18 | G44: =SUMPRODUCT($B41:$B43,G41:G43) -> 18 | H44: =SUMPRODUCT($B41:$B43,H41:H43) -> 30
A46: BASE DE USUÁRIOS
A47: Item | B47: Peso
C48: AECOsim | D48: ArchiCAD | E48: Revit | F48: SketchUp | G48: Vectorworks | H48: Máximo
A49: Total de usuários | B49: 2 | C49: 3 | D49: 3 | E49: 3 | F49: 3 | G49: 3 | H49: 5
A50: Usuários em grandes escritórios | B50: 2 | C50: 3 | D50: 3 | E50: 3 | F50: 3 | G50: 3 | H50: 5
A51: Usuários fiéis | B51: 2 | C51: 3 | D51: 3 | E51: 3 | F51: 3 | G51: 3 | H51: 5
A52: Evolução da base ao longo do tempo | B52: 2 | C52: 3 | D52: 3 | E52: 3 | F52: 3 | G52: 3 | H52: 5
A53: Qualidade dos usuários | B53: 2 | C53: 3 | D53: 3 | E53: 3 | F53: 3 | G53: 3 | H53: 5
A54: Total | C54: =SUMPRODUCT($B49:$B53,C49:C53) -> 30 | D54: =SUMPRODUCT($B49:$B53,D49:D53) -> 30 | E54: =SUMPRODUCT($B49:$B53,E49:E53) -> 30 | F54: =SUMPRODUCT($B49:$B53,F49:F53) -> 30 | G54: =SUMPRODUCT($B49:$B53,G49:G53) -> 30 | H54: =SUMPRODUCT($B49:$B53,H49:H53) -> 50
A56: VALORES
A57: Item | B57: Peso
C58: AECOsim | D58: ArchiCAD | E58: Revit | F58: SketchUp | G58: Vectorworks | H58: Máximo
A59: Valor da licença ou mensalidade | B59: 2 | C59: 3 | D59: 3 | E59: 3 | F59: 3 | G59: 3 | H59: 5
A60: Custo do Upgrade | B60: 2 | C60: 3 | D60: 3 | E60: 3 | F60: 3 | G60: 3 | H60: 5
A61: Necessidade e custo de complementares | B61: 2 | C61: 3 | D61: 3 | E61: 3 | F61: 3 | G61: 3 | H61: 5
A62: Desconto para quantidades | B62: 2 | C62: 3 | D62: 3 | E62: 3 | F62: 3 | G62: 3 | H62: 5
A63: Custo Hardware + Estrutura | B63: 2 | C63: 3 | D63: 3 | E63: 3 | F63: 3 | G63: 3 | H63: 5
A64: Total | C64: =SUMPRODUCT($B59:$B63,C59:C63) -> 30 | D64: =SUMPRODUCT($B59:$B63,D59:D63) -> 30 | E64: =SUMPRODUCT($B59:$B63,E59:E63) -> 30 | F64: =SUMPRODUCT($B59:$B63,F59:F63) -> 30 | G64: =SUMPRODUCT($B59:$B63,G59:G63) -> 30 | H64: =SUMPRODUCT($B59:$B63,H59:H63) -> 50
A68: AVALIAÇÂO FINAL
A69: Item | B69: Peso
C70: ArchiCAD | D70: Revit | E70: Revit | F70: Revit | G70: Vectorworks | H70: Máximo
A71: criação | B71: ='1 - Atribua pesos relac. perfil'!H8 -> 3 | C71: =C12*$B71 -> 72 | D71: =D12*$B71 -> 72 | E71: =E12*$B71 -> 72 | F71: =F12*$B71 -> 72 | G71: =G12*$B71 -> 72 | H71: =H12*$B71 -> 120
A72: apresentaçâo | B72: ='1 - Atribua pesos relac. perfil'!H9 -> 3 | C72: =C22*$B72 -> 90 | D72: =D22*$B72 -> 90 | E72: =E22*$B72 -> 90 | F72: =F22*$B72 -> 90 | G72: =G22*$B72 -> 90 | H72: =H22*$B72 -> 150
A73: documentação | B73: ='1 - Atribua pesos relac. perfil'!H10 -> 3 | C73: =C30*$B73 -> 54 | D73: =D30*$B73 -> 54 | E73: =E30*$B73 -> 54 | F73: =F30*$B73 -> 54 | G73: =G30*$B73 -> 54 | H73: =H30*$B73 -> 90
A74: comunicação interna | B74: ='1 - Atribua pesos relac. perfil'!H11 -> 3 | C74: =C37*$B74 -> 36 | D74: =D37*$B74 -> 36 | E74: =E37*$B74 -> 36 | F74: =F37*$B74 -> 36 | G74: =G37*$B74 -> 36 | H74: =H37*$B74 -> 60
A75: intercambialidade | B75: ='1 - Atribua pesos relac. perfil'!H12 -> 3 | C75: =C44*$B75 -> 54 | D75: =D44*$B75 -> 54 | E75: =E44*$B75 -> 54 | F75: =F44*$B75 -> 54 | G75: =G44*$B75 -> 54 | H75: =H44*$B75 -> 90
A76: base de usuários | B76: ='1 - Atribua pesos relac. perfil'!H13 -> 3 | C76: =C54*$B76 -> 90 | D76: =D54*$B76 -> 90 | E76: =E54*$B76 -> 90 | F76: =F54*$B76 -> 90 | G76: =G54*$B76 -> 90 | H76: =H54*$B76 -> 150
A77: valores | B77: ='1 - Atribua pesos relac. perfil'!H14 -> 3 | C77: =C64*$B77 -> 90 | D77: =D64*$B77 -> 90 | E77: =E64*$B77 -> 90 | F77: =F64*$B77 -> 90 | G77: =G64*$B77 -> 90 | H77: =H64*$B77 -> 150
A78: Total final | C78: =(C71*$B71)+(C72*$B72)+(C73*$B73)+(C74*$B74)+(C75*$B75)+(C76*$B76)+(C77*$B77) -> 1458 | D78: =(D71*$B71)+(D72*$B72)+(D73*$B73)+(D74*$B74)+(D75*$B75)+(D76*$B76)+(D77*$B77) -> 1458 | E78: =(E71*$B71)+(E72*$B72)+(E73*$B73)+(E74*$B74)+(E75*$B75)+(E76*$B76)+(E77*$B77) -> 1458 | F78: =(F71*$B71)+(F72*$B72)+(F73*$B73)+(F74*$B74)+(F75*$B75)+(F76*$B76)+(F77*$B77) -> 1458 | G78: =(G71*$B71)+(G72*$B72)+(G73*$B73)+(G74*$B74)+(G75*$B75)+(G76*$B76)+(G77*$B77) -> 1458 | H78: =(H71*$B71)+(H72*$B72)+(H73*$B73)+(H74*$B74)+(H75*$B75)+(H76*$B76)+(H77*$B77) -> 2430
A79: Total final base 10 | C79: =(C78/$H78)*10 -> 6.0 | D79: =(D78/$H78)*10 -> 6.0 | E79: =(E78/$H78)*10 -> 6.0 | F79: =(F78/$H78)*10 -> 6.0 | G79: =(G78/$H78)*10 -> 6.0 | H79: =(H78/$H78)*10 -> 10
A81: João Gaspar
A82: =HYPERLINK("mailto:joaogaspar@tilab.com.br","joaogaspar@tilab.com.br") -> joaogaspar@tilab.com.br | C82: =HYPERLINK("http://www.tilab.com.br/bim","http://www.tilab.com.br/bim") -> http://www.tilab.com.br/bim
